BEGIN:VCALENDAR
PRODID:-//eluceo/ical//2.0/EN
VERSION:2.0
CALSCALE:GREGORIAN
BEGIN:VEVENT
UID:d7c937ac1c40dadb70041e13ab8f85b5
DTSTAMP:20260422T035440Z
SUMMARY:Congregation B'nai Shalom Jewish Superstitions
DESCRIPTION:Jewish Federation of Central Massachusetts\nCalendar\nhttps://j
 ewishcentralmass.org/calendar/20cal679\n\nCongregation B'nai Shalom Jewish
  Superstitions
DTSTART;TZID=America/New_York:20191217T193000
DTEND;TZID=America/New_York:20191217T235959
END:VEVENT
END:VCALENDAR
