BEGIN:VCALENDAR
PRODID:-//eluceo/ical//2.0/EN
VERSION:2.0
CALSCALE:GREGORIAN
BEGIN:VEVENT
UID:a9c9daf715377140819690ed2cdd7e85
DTSTAMP:20260425T152106Z
SUMMARY:PJ Library @ Beth Tikvah
DESCRIPTION:Jewish Federation of Central Massachusetts\nCalendar\nhttps://j
 ewishcentralmass.org/calendar/20cal676\n\nPJ Library @ Beth Tikvah
DTSTART;TZID=America/New_York:20191215T091500
DTEND;TZID=America/New_York:20191215T235959
END:VEVENT
END:VCALENDAR
