BEGIN:VCALENDAR
PRODID:-//eluceo/ical//2.0/EN
VERSION:2.0
CALSCALE:GREGORIAN
BEGIN:VEVENT
UID:e06d46f4d211af77527feec7fa30ca44
DTSTAMP:20260421T093045Z
SUMMARY:Beth Tikvah Board Meeting
DESCRIPTION:Jewish Federation of Central Massachusetts\nCalendar\nhttps://j
 ewishcentralmass.org/calendar/20cal675\n\nBeth Tikvah Board Meeting
DTSTART;TZID=America/New_York:20191211T190000
DTEND;TZID=America/New_York:20191211T200000
END:VEVENT
END:VCALENDAR
