BEGIN:VCALENDAR
PRODID:-//eluceo/ical//2.0/EN
VERSION:2.0
CALSCALE:GREGORIAN
BEGIN:VEVENT
UID:c50a79726a56abcf4b7069dcbcb88046
DTSTAMP:20260422T221306Z
SUMMARY:Jewish Community Center Finance Committee
DESCRIPTION:Jewish Federation of Central Massachusetts\nCalendar\nhttps://j
 ewishcentralmass.org/calendar/20cal674\n\nJewish Community Center Finance 
 Committee
DTSTART;TZID=America/New_York:20191210T193000
DTEND;TZID=America/New_York:20191210T235959
END:VEVENT
END:VCALENDAR
