BEGIN:VCALENDAR
PRODID:-//eluceo/ical//2.0/EN
VERSION:2.0
CALSCALE:GREGORIAN
BEGIN:VEVENT
UID:b7563396c59f9c3cc6e07d3368adb8cc
DTSTAMP:20260423T201942Z
SUMMARY:Temple Emanuel Sinai Board Meeting
DESCRIPTION:Jewish Federation of Central Massachusetts\nCalendar\nhttps://j
 ewishcentralmass.org/calendar/20cal672\n\nTemple Emanuel Sinai Board Meeti
 ng
DTSTART;TZID=America/New_York:20191209T193000
DTEND;TZID=America/New_York:20191209T235959
END:VEVENT
END:VCALENDAR
