BEGIN:VCALENDAR
PRODID:-//eluceo/ical//2.0/EN
VERSION:2.0
CALSCALE:GREGORIAN
BEGIN:VEVENT
UID:32cdc2c28fb9eca0917e275305aca98b
DTSTAMP:20260422T221315Z
SUMMARY:Jewish Community Center Hanukkah Event
DESCRIPTION:Jewish Federation of Central Massachusetts\nCalendar\nhttps://j
 ewishcentralmass.org/calendar/20cal670\n\nJewish Community Center Hanukkah
  Event
DTSTART;TZID=America/New_York:20191201T110000
DTEND;TZID=America/New_York:20191201T150000
END:VEVENT
END:VCALENDAR
