BEGIN:VCALENDAR
PRODID:-//eluceo/ical//2.0/EN
VERSION:2.0
CALSCALE:GREGORIAN
BEGIN:VEVENT
UID:01234909f60604d05117ee6585305c09
DTSTAMP:20260422T212131Z
SUMMARY:Congregation Beth Israel Scholar in Residence Steve Friedman
DESCRIPTION:Jewish Federation of Central Massachusetts\nCalendar\nhttps://j
 ewishcentralmass.org/calendar/20cal669\n\nCongregation Beth Israel Scholar
  in Residence Steve Friedman
DTSTART;TZID=America/New_York:20191206T180000
DTEND;TZID=America/New_York:20191208T235959
END:VEVENT
END:VCALENDAR
