BEGIN:VCALENDAR
PRODID:-//eluceo/ical//2.0/EN
VERSION:2.0
CALSCALE:GREGORIAN
BEGIN:VEVENT
UID:813fed9b8b4bd540d6491161cbcde25f
DTSTAMP:20260423T083711Z
SUMMARY:Congregation B'nai Shalom Jewish Superstitions
DESCRIPTION:Jewish Federation of Central Massachusetts\nCalendar\nhttps://j
 ewishcentralmass.org/calendar/20cal668\n\nCongregation B'nai Shalom Jewish
  Superstitions
DTSTART;TZID=America/New_York:20191205T193000
DTEND;TZID=America/New_York:20191205T235959
END:VEVENT
END:VCALENDAR
