BEGIN:VCALENDAR
PRODID:-//eluceo/ical//2.0/EN
VERSION:2.0
CALSCALE:GREGORIAN
BEGIN:VEVENT
UID:b8d3f31224a439a60fbd5babf240c8b8
DTSTAMP:20260424T095044Z
SUMMARY:Jewish Federation of Central Mass Board Meeting
DESCRIPTION:Jewish Federation of Central Massachusetts\nCalendar\nhttps://j
 ewishcentralmass.org/calendar/20cal667\n\nJewish Federation of Central Mas
 s Board Meeting
DTSTART;TZID=America/New_York:20191203T193000
DTEND;TZID=America/New_York:20191203T235959
END:VEVENT
END:VCALENDAR
