BEGIN:VCALENDAR
PRODID:-//eluceo/ical//2.0/EN
VERSION:2.0
CALSCALE:GREGORIAN
BEGIN:VEVENT
UID:62dfe0da144bb7f350d51c76ecf376ac
DTSTAMP:20260422T214642Z
SUMMARY:Jewish Healthcare Center Finance Committee
DESCRIPTION:Jewish Federation of Central Massachusetts\nCalendar\nhttps://j
 ewishcentralmass.org/calendar/20cal666\n\nJewish Healthcare Center Finance
  Committee
DTSTART;TZID=America/New_York:20191203T073000
DTEND;TZID=America/New_York:20191203T235959
END:VEVENT
END:VCALENDAR
