BEGIN:VCALENDAR
PRODID:-//eluceo/ical//2.0/EN
VERSION:2.0
CALSCALE:GREGORIAN
BEGIN:VEVENT
UID:059b74116e1b2e3ff0ab399300d4c9a9
DTSTAMP:20260423T023919Z
SUMMARY:Thanksgiving
DESCRIPTION:Jewish Federation of Central Massachusetts\nCalendar\nhttps://j
 ewishcentralmass.org/calendar/20cal665\n\nThanksgiving
DTSTART;TZID=America/New_York:20191128T000100
DTEND;TZID=America/New_York:20191128T235959
END:VEVENT
END:VCALENDAR
