BEGIN:VCALENDAR
PRODID:-//eluceo/ical//2.0/EN
VERSION:2.0
CALSCALE:GREGORIAN
BEGIN:VEVENT
UID:bc853c43fb9abf02559c25073e977818
DTSTAMP:20260422T094133Z
SUMMARY:Congregation Beth Israel Board Meeting
DESCRIPTION:Jewish Federation of Central Massachusetts\nCalendar\nhttps://j
 ewishcentralmass.org/calendar/20cal664\n\nCongregation Beth Israel Board M
 eeting
DTSTART;TZID=America/New_York:20191121T193000
DTEND;TZID=America/New_York:20191121T235959
END:VEVENT
END:VCALENDAR
