BEGIN:VCALENDAR
PRODID:-//eluceo/ical//2.0/EN
VERSION:2.0
CALSCALE:GREGORIAN
BEGIN:VEVENT
UID:6849757c5e46a991028352992c07a7c3
DTSTAMP:20260423T015922Z
SUMMARY:Jewish Community Center Board Meeting
DESCRIPTION:Jewish Federation of Central Massachusetts\nCalendar\nhttps://j
 ewishcentralmass.org/calendar/20cal663\n\nJewish Community Center Board Me
 eting
DTSTART;TZID=America/New_York:20191121T193000
DTEND;TZID=America/New_York:20191121T235959
END:VEVENT
END:VCALENDAR
