BEGIN:VCALENDAR
PRODID:-//eluceo/ical//2.0/EN
VERSION:2.0
CALSCALE:GREGORIAN
BEGIN:VEVENT
UID:6548a62b10d11ab5925698c3e31f1a25
DTSTAMP:20260423T131043Z
SUMMARY:Beth Tikvah Best of the Boroughs
DESCRIPTION:Jewish Federation of Central Massachusetts\nCalendar\nhttps://j
 ewishcentralmass.org/calendar/20cal662\n\nBeth Tikvah Best of the Boroughs
DTSTART;TZID=America/New_York:20191117T180000
DTEND;TZID=America/New_York:20191117T235959
END:VEVENT
END:VCALENDAR
