BEGIN:VCALENDAR
PRODID:-//eluceo/ical//2.0/EN
VERSION:2.0
CALSCALE:GREGORIAN
BEGIN:VEVENT
UID:b73367920c09367a382e5d86f1d51747
DTSTAMP:20260423T044902Z
SUMMARY:Jewish Community Center Vendor Fair
DESCRIPTION:Jewish Federation of Central Massachusetts\nCalendar\nhttps://j
 ewishcentralmass.org/calendar/20cal661\n\nJewish Community Center Vendor F
 air
DTSTART;TZID=America/New_York:20191117T110000
DTEND;TZID=America/New_York:20191117T235959
END:VEVENT
END:VCALENDAR
