BEGIN:VCALENDAR
PRODID:-//eluceo/ical//2.0/EN
VERSION:2.0
CALSCALE:GREGORIAN
BEGIN:VEVENT
UID:ca8baadfd430c6ff2555376ceac7d949
DTSTAMP:20260421T194535Z
SUMMARY:Jewish Federation of Central Mass Torathon
DESCRIPTION:Jewish Federation of Central Massachusetts\nCalendar\nhttps://j
 ewishcentralmass.org/calendar/20cal660\n\nJewish Federation of Central Mas
 s Torathon
DTSTART;TZID=America/New_York:20191116T180000
DTEND;TZID=America/New_York:20191116T235959
END:VEVENT
END:VCALENDAR
