BEGIN:VCALENDAR
PRODID:-//eluceo/ical//2.0/EN
VERSION:2.0
CALSCALE:GREGORIAN
BEGIN:VEVENT
UID:3602e13c8beec2c1d44bb13d09901b38
DTSTAMP:20260423T213238Z
SUMMARY:Beth Tikvah Board Meeting
DESCRIPTION:Jewish Federation of Central Massachusetts\nCalendar\nhttps://j
 ewishcentralmass.org/calendar/20cal658\n\nBeth Tikvah Board Meeting
DTSTART;TZID=America/New_York:20191113T190000
DTEND;TZID=America/New_York:20191113T200000
END:VEVENT
END:VCALENDAR
