BEGIN:VCALENDAR
PRODID:-//eluceo/ical//2.0/EN
VERSION:2.0
CALSCALE:GREGORIAN
BEGIN:VEVENT
UID:6ee6bcbf0e7c290810479a102867bbc0
DTSTAMP:20260422T190025Z
SUMMARY:Jewish Community Center Finance Committee
DESCRIPTION:Jewish Federation of Central Massachusetts\nCalendar\nhttps://j
 ewishcentralmass.org/calendar/20cal657\n\nJewish Community Center Finance 
 Committee
DTSTART;TZID=America/New_York:20191112T193000
DTEND;TZID=America/New_York:20191112T235959
END:VEVENT
END:VCALENDAR
