BEGIN:VCALENDAR
PRODID:-//eluceo/ical//2.0/EN
VERSION:2.0
CALSCALE:GREGORIAN
BEGIN:VEVENT
UID:3dc69b1939144ce1e94662075c95c2d2
DTSTAMP:20260420T164015Z
SUMMARY:Temple Emanuel Sinai Board Meeting
DESCRIPTION:Jewish Federation of Central Massachusetts\nCalendar\nhttps://j
 ewishcentralmass.org/calendar/20cal656\n\nTemple Emanuel Sinai Board Meeti
 ng
DTSTART;TZID=America/New_York:20191111T193000
DTEND;TZID=America/New_York:20191111T235959
END:VEVENT
END:VCALENDAR
