BEGIN:VCALENDAR
PRODID:-//eluceo/ical//2.0/EN
VERSION:2.0
CALSCALE:GREGORIAN
BEGIN:VEVENT
UID:0458399f23b3db91b5cf03d161f45645
DTSTAMP:20260423T004421Z
SUMMARY:Temple Emanuel Sinai Walls to Bridges Brotherhood Breakfast
DESCRIPTION:Jewish Federation of Central Massachusetts\nCalendar\nhttps://j
 ewishcentralmass.org/calendar/20cal653\n\nTemple Emanuel Sinai Walls to Br
 idges Brotherhood Breakfast
DTSTART;TZID=America/New_York:20191110T094500
DTEND;TZID=America/New_York:20191110T235959
END:VEVENT
END:VCALENDAR
