BEGIN:VCALENDAR
PRODID:-//eluceo/ical//2.0/EN
VERSION:2.0
CALSCALE:GREGORIAN
BEGIN:VEVENT
UID:f61e954f4e0bf839b89bd63c3991f5b6
DTSTAMP:20260423T000841Z
SUMMARY:JFNA General Assembly
DESCRIPTION:Jewish Federation of Central Massachusetts\nCalendar\nhttps://j
 ewishcentralmass.org/calendar/20cal652\n\nJFNA General Assembly
DTSTART;TZID=America/New_York:20191110T000100
DTEND;TZID=America/New_York:20191112T235959
END:VEVENT
END:VCALENDAR
