BEGIN:VCALENDAR
PRODID:-//eluceo/ical//2.0/EN
VERSION:2.0
CALSCALE:GREGORIAN
BEGIN:VEVENT
UID:ce43855fb05df78d8bc1fcd610785253
DTSTAMP:20260423T212609Z
SUMMARY:Congregation Beth Israel Concert
DESCRIPTION:Jewish Federation of Central Massachusetts\nCalendar\nhttps://j
 ewishcentralmass.org/calendar/20cal651\n\nCongregation Beth Israel Concert
DTSTART;TZID=America/New_York:20191109T173000
DTEND;TZID=America/New_York:20191109T235959
END:VEVENT
END:VCALENDAR
