BEGIN:VCALENDAR
PRODID:-//eluceo/ical//2.0/EN
VERSION:2.0
CALSCALE:GREGORIAN
BEGIN:VEVENT
UID:794cf7ac26323f9677199952d7dcb6f0
DTSTAMP:20260422T010027Z
SUMMARY:Congregation B'nai Shalom & Beth Tikvah Tot Shabbat Service
DESCRIPTION:Jewish Federation of Central Massachusetts\nCalendar\nhttps://j
 ewishcentralmass.org/calendar/20cal650\n\nCongregation B'nai Shalom & Beth
  Tikvah Tot Shabbat Service
DTSTART;TZID=America/New_York:20191109T101500
DTEND;TZID=America/New_York:20191109T235959
END:VEVENT
END:VCALENDAR
