BEGIN:VCALENDAR
PRODID:-//eluceo/ical//2.0/EN
VERSION:2.0
CALSCALE:GREGORIAN
BEGIN:VEVENT
UID:01c5fd73a309a9424dd722d70520a994
DTSTAMP:20260423T224009Z
SUMMARY:Congregation Beth Israel Concert
DESCRIPTION:Jewish Federation of Central Massachusetts\nCalendar\nhttps://j
 ewishcentralmass.org/calendar/20cal649\n\nCongregation Beth Israel Concert
DTSTART;TZID=America/New_York:20191107T183000
DTEND;TZID=America/New_York:20191107T235959
END:VEVENT
END:VCALENDAR
