BEGIN:VCALENDAR
PRODID:-//eluceo/ical//2.0/EN
VERSION:2.0
CALSCALE:GREGORIAN
BEGIN:VEVENT
UID:dbeddf549c2f3b0c2baf855da686290e
DTSTAMP:20260424T095126Z
SUMMARY:Jewish Federation of Central Mass Board Meeting
DESCRIPTION:Jewish Federation of Central Massachusetts\nCalendar\nhttps://j
 ewishcentralmass.org/calendar/20cal647\n\nJewish Federation of Central Mas
 s Board Meeting
DTSTART;TZID=America/New_York:20191105T193000
DTEND;TZID=America/New_York:20191105T235959
END:VEVENT
END:VCALENDAR
