BEGIN:VCALENDAR
PRODID:-//eluceo/ical//2.0/EN
VERSION:2.0
CALSCALE:GREGORIAN
BEGIN:VEVENT
UID:bb2d57206abcb06b8efa7f22560948a2
DTSTAMP:20260423T101005Z
SUMMARY:PJ Library Mini-Minyan at Beth Tikvah
DESCRIPTION:Jewish Federation of Central Massachusetts\nCalendar\nhttps://j
 ewishcentralmass.org/calendar/20cal645\n\nPJ Library @ Beth Tikvah
DTSTART;TZID=America/New_York:20191103T000000
DTEND;TZID=America/New_York:20191103T235959
END:VEVENT
END:VCALENDAR
