BEGIN:VCALENDAR
PRODID:-//eluceo/ical//2.0/EN
VERSION:2.0
CALSCALE:GREGORIAN
BEGIN:VEVENT
UID:f8480e91c123eabc25db4465203fee66
DTSTAMP:20260422T184354Z
SUMMARY:Congregation Beth Israel Concert
DESCRIPTION:Jewish Federation of Central Massachusetts\nCalendar\nhttps://j
 ewishcentralmass.org/calendar/20cal644\n\nCongregation Beth Israel Concert
DTSTART;TZID=America/New_York:20191102T183000
DTEND;TZID=America/New_York:20191102T235959
END:VEVENT
END:VCALENDAR
