BEGIN:VCALENDAR
PRODID:-//eluceo/ical//2.0/EN
VERSION:2.0
CALSCALE:GREGORIAN
BEGIN:VEVENT
UID:fbbecae7bbd9ae24c8f70f87bb70a083
DTSTAMP:20260423T010356Z
SUMMARY:SUPER SUNDAY
DESCRIPTION:Jewish Federation of Central Massachusetts\nCalendar\nhttps://j
 ewishcentralmass.org/calendar/20cal642\n\nSUPER SUNDAY
DTSTART;TZID=America/New_York:20191027T090000
DTEND;TZID=America/New_York:20191027T235959
END:VEVENT
END:VCALENDAR
