BEGIN:VCALENDAR
PRODID:-//eluceo/ical//2.0/EN
VERSION:2.0
CALSCALE:GREGORIAN
BEGIN:VEVENT
UID:9f715a0d49886151d53a5a9e4681122f
DTSTAMP:20260422T021225Z
SUMMARY:Jewish Federation of Central MA Board Meeting
DESCRIPTION:Jewish Federation of Central Massachusetts\nCalendar\nhttps://j
 ewishcentralmass.org/calendar/20cal640\n\nJewish Federation of Central MA 
 Board Meeting
DTSTART;TZID=America/New_York:20191023T193000
DTEND;TZID=America/New_York:20191023T235959
END:VEVENT
END:VCALENDAR
