BEGIN:VCALENDAR
PRODID:-//eluceo/ical//2.0/EN
VERSION:2.0
CALSCALE:GREGORIAN
BEGIN:VEVENT
UID:513ecdafe87771ce4bddee19c83f4f74
DTSTAMP:20260423T012729Z
SUMMARY:Simchat Torah
DESCRIPTION:Jewish Federation of Central Massachusetts\nCalendar\nhttps://j
 ewishcentralmass.org/calendar/20cal639\n\nSimchat Torah
DTSTART;TZID=America/New_York:20191022T000100
DTEND;TZID=America/New_York:20191022T235959
END:VEVENT
END:VCALENDAR
