BEGIN:VCALENDAR
PRODID:-//eluceo/ical//2.0/EN
VERSION:2.0
CALSCALE:GREGORIAN
BEGIN:VEVENT
UID:cc20272859a753ad95f591b3be8520a4
DTSTAMP:20260422T223327Z
SUMMARY:Shemini Atzeret
DESCRIPTION:Jewish Federation of Central Massachusetts\nCalendar\nhttps://j
 ewishcentralmass.org/calendar/20cal638\n\nShemini Atzeret
DTSTART;TZID=America/New_York:20191021T000100
DTEND;TZID=America/New_York:20191021T235959
END:VEVENT
END:VCALENDAR
