BEGIN:VCALENDAR
PRODID:-//eluceo/ical//2.0/EN
VERSION:2.0
CALSCALE:GREGORIAN
BEGIN:VEVENT
UID:e53cdad584577f70a6d142b3feb4d4ab
DTSTAMP:20260423T020207Z
SUMMARY:Congregation B'nai Shalom & Beth Tikvah Tot Shabbat Service
DESCRIPTION:Jewish Federation of Central Massachusetts\nCalendar\nhttps://j
 ewishcentralmass.org/calendar/20cal637\n\nCongregation B'nai Shalom & Beth
  Tikvah Tot Shabbat Service\n\n10:15-12:00 
DTSTART;TZID=America/New_York:20191214T101500
DTEND;TZID=America/New_York:20191214T120000
END:VEVENT
END:VCALENDAR
