BEGIN:VCALENDAR
PRODID:-//eluceo/ical//2.0/EN
VERSION:2.0
CALSCALE:GREGORIAN
BEGIN:VEVENT
UID:904f4077f0e6d545f48287de5c2a6545
DTSTAMP:20260423T183911Z
SUMMARY:Congregation B'nai Shalom & Beth Tikvah Tot Shabbat Service
DESCRIPTION:Jewish Federation of Central Massachusetts\nCalendar\nhttps://j
 ewishcentralmass.org/calendar/20cal636\n\nCongregation B'nai Shalom & Beth
  Tikvah Tot Shabbat Service
DTSTART;TZID=America/New_York:20191019T101500
DTEND;TZID=America/New_York:20191019T235959
END:VEVENT
END:VCALENDAR
