BEGIN:VCALENDAR
PRODID:-//eluceo/ical//2.0/EN
VERSION:2.0
CALSCALE:GREGORIAN
BEGIN:VEVENT
UID:4e0a3109a242a7e539255d5ddd178fff
DTSTAMP:20260422T022700Z
SUMMARY:Congregation B'nai Shalom & Beth Tikvah Tot Shabbat Service
DESCRIPTION:Jewish Federation of Central Massachusetts\nCalendar\nhttps://j
 ewishcentralmass.org/calendar/20cal635\n\nCongregation B'nai Shalom & Beth
  Tikvah Tot Shabbat Service
DTSTART;TZID=America/New_York:20200215T101500
DTEND;TZID=America/New_York:20200215T235959
END:VEVENT
END:VCALENDAR
