BEGIN:VCALENDAR
PRODID:-//eluceo/ical//2.0/EN
VERSION:2.0
CALSCALE:GREGORIAN
BEGIN:VEVENT
UID:710c995c403ca8021765f57a9e957a73
DTSTAMP:20260422T211512Z
SUMMARY:Jewish Community Center Board Meeting
DESCRIPTION:Jewish Federation of Central Massachusetts\nCalendar\nhttps://j
 ewishcentralmass.org/calendar/20cal634\n\nJewish Community Center Board Me
 eting
DTSTART;TZID=America/New_York:20191016T193000
DTEND;TZID=America/New_York:20191016T235959
END:VEVENT
END:VCALENDAR
