BEGIN:VCALENDAR
PRODID:-//eluceo/ical//2.0/EN
VERSION:2.0
CALSCALE:GREGORIAN
BEGIN:VEVENT
UID:d517ea49fd757a75ac98a9bb764fefeb
DTSTAMP:20260422T223337Z
SUMMARY:Congregation Beth Israel Interfaith Learning & Dinner
DESCRIPTION:Jewish Federation of Central Massachusetts\nCalendar\nhttps://j
 ewishcentralmass.org/calendar/20cal632\n\nCongregation Beth Israel Interfa
 ith Learning & Dinner
DTSTART;TZID=America/New_York:20191016T173000
DTEND;TZID=America/New_York:20191016T235959
END:VEVENT
END:VCALENDAR
