BEGIN:VCALENDAR
PRODID:-//eluceo/ical//2.0/EN
VERSION:2.0
CALSCALE:GREGORIAN
BEGIN:VEVENT
UID:9f0bff7b8d7c9fd106ae42d762c5f40e
DTSTAMP:20260420T080416Z
SUMMARY:Sukkot
DESCRIPTION:Jewish Federation of Central Massachusetts\nCalendar\nhttps://j
 ewishcentralmass.org/calendar/20cal630\n\nSukkot
DTSTART;TZID=America/New_York:20191013T180000
DTEND;TZID=America/New_York:20191020T235959
END:VEVENT
END:VCALENDAR
