BEGIN:VCALENDAR
PRODID:-//eluceo/ical//2.0/EN
VERSION:2.0
CALSCALE:GREGORIAN
BEGIN:VEVENT
UID:f677d0c26d4b24be6e55f80a58b343a3
DTSTAMP:20260423T183934Z
SUMMARY:Jewish Community Center Finance Committee
DESCRIPTION:Jewish Federation of Central Massachusetts\nCalendar\nhttps://j
 ewishcentralmass.org/calendar/20cal626\n\nJewish Community Center Finance 
 Committee
DTSTART;TZID=America/New_York:20191007T193000
DTEND;TZID=America/New_York:20191007T235959
END:VEVENT
END:VCALENDAR
