BEGIN:VCALENDAR
PRODID:-//eluceo/ical//2.0/EN
VERSION:2.0
CALSCALE:GREGORIAN
BEGIN:VEVENT
UID:6ff938ea294a308409d342c47a7ee1f9
DTSTAMP:20260423T011419Z
SUMMARY:Rosh Hashanah
DESCRIPTION:Jewish Federation of Central Massachusetts\nCalendar\nhttps://j
 ewishcentralmass.org/calendar/20cal625\n\nRosh Hashanah
DTSTART;TZID=America/New_York:20190930T000100
DTEND;TZID=America/New_York:20191001T235959
END:VEVENT
END:VCALENDAR
