BEGIN:VCALENDAR
PRODID:-//eluceo/ical//2.0/EN
VERSION:2.0
CALSCALE:GREGORIAN
BEGIN:VEVENT
UID:783a99e0a37fa9df8e9b24fe9acee957
DTSTAMP:20260423T100110Z
SUMMARY:Congregation Beth Israel Board Meeting
DESCRIPTION:Jewish Federation of Central Massachusetts\nCalendar\nhttps://j
 ewishcentralmass.org/calendar/20cal623\n\nCongregation Beth Israel Board M
 eeting
DTSTART;TZID=America/New_York:20190926T193000
DTEND;TZID=America/New_York:20190926T235959
END:VEVENT
END:VCALENDAR
