BEGIN:VCALENDAR
PRODID:-//eluceo/ical//2.0/EN
VERSION:2.0
CALSCALE:GREGORIAN
BEGIN:VEVENT
UID:72fede3131cf8b1a5874209099e03f6e
DTSTAMP:20260424T025844Z
SUMMARY:Beth Tikvah Speaker
DESCRIPTION:Jewish Federation of Central Massachusetts\nCalendar\nhttps://j
 ewishcentralmass.org/calendar/20cal621\n\nBeth Tikvah Speaker (tentative)
DTSTART;TZID=America/New_York:20190925T000000
DTEND;TZID=America/New_York:20190925T235959
END:VEVENT
END:VCALENDAR
