BEGIN:VCALENDAR
PRODID:-//eluceo/ical//2.0/EN
VERSION:2.0
CALSCALE:GREGORIAN
BEGIN:VEVENT
UID:0dc53a3bda2c7b45daf809e45241724e
DTSTAMP:20260422T234412Z
SUMMARY:Jewish Healthcare Center Board Meeting
DESCRIPTION:Jewish Federation of Central Massachusetts\nCalendar\nhttps://j
 ewishcentralmass.org/calendar/20cal620\n\nJewish Healthcare Center Board M
 eeting
DTSTART;TZID=America/New_York:20190923T193000
DTEND;TZID=America/New_York:20190923T235959
END:VEVENT
END:VCALENDAR
