BEGIN:VCALENDAR
PRODID:-//eluceo/ical//2.0/EN
VERSION:2.0
CALSCALE:GREGORIAN
BEGIN:VEVENT
UID:f159e1c63bbc163a8bce71f1effdf2ff
DTSTAMP:20260423T101108Z
SUMMARY:Jewish Community Center Board Orientation
DESCRIPTION:Jewish Federation of Central Massachusetts\nCalendar\nhttps://j
 ewishcentralmass.org/calendar/20cal619\n\nJewish Community Center Board Or
 ientation
DTSTART;TZID=America/New_York:20190925T193000
DTEND;TZID=America/New_York:20190925T210000
END:VEVENT
END:VCALENDAR
