BEGIN:VCALENDAR
PRODID:-//eluceo/ical//2.0/EN
VERSION:2.0
CALSCALE:GREGORIAN
BEGIN:VEVENT
UID:4045d8a4c62e7f679c711a428ad908a9
DTSTAMP:20260423T185629Z
SUMMARY:PJ Library @ Beth Tikvah
DESCRIPTION:Jewish Federation of Central Massachusetts\nCalendar\nhttps://j
 ewishcentralmass.org/calendar/20cal618\n\nPJ Library @ Beth Tikvah
DTSTART;TZID=America/New_York:20190922T091500
DTEND;TZID=America/New_York:20190922T235959
END:VEVENT
END:VCALENDAR
