BEGIN:VCALENDAR
PRODID:-//eluceo/ical//2.0/EN
VERSION:2.0
CALSCALE:GREGORIAN
BEGIN:VEVENT
UID:f9f87d29df252884e7a92c1307f0aa03
DTSTAMP:20260422T070539Z
SUMMARY:Congregation B'nai Shalom Selichot Service
DESCRIPTION:Jewish Federation of Central Massachusetts\nCalendar\nhttps://j
 ewishcentralmass.org/calendar/20cal617\n\nCongregation B'nai Shalom Selich
 ot Service
DTSTART;TZID=America/New_York:20190921T190000
DTEND;TZID=America/New_York:20190921T235959
END:VEVENT
END:VCALENDAR
