BEGIN:VCALENDAR
PRODID:-//eluceo/ical//2.0/EN
VERSION:2.0
CALSCALE:GREGORIAN
BEGIN:VEVENT
UID:02c0a241bb9d48019f8eb7cfef437a91
DTSTAMP:20260422T233356Z
SUMMARY:Temple Emanuel Sinai Selichot Service
DESCRIPTION:Jewish Federation of Central Massachusetts\nCalendar\nhttps://j
 ewishcentralmass.org/calendar/20cal616\n\nTemple Emanuel Sinai Selichot Se
 rvice
DTSTART;TZID=America/New_York:20190921T190000
DTEND;TZID=America/New_York:20190921T235959
END:VEVENT
END:VCALENDAR
