BEGIN:VCALENDAR
PRODID:-//eluceo/ical//2.0/EN
VERSION:2.0
CALSCALE:GREGORIAN
BEGIN:VEVENT
UID:4210c82721bf953533ff4f6f98b369ce
DTSTAMP:20260421T210837Z
SUMMARY:Temple Emanuel Sinai First Day of Hebrew School
DESCRIPTION:Jewish Federation of Central Massachusetts\nCalendar\nhttps://j
 ewishcentralmass.org/calendar/20cal615\n\nTemple Emanuel Sinai First Day o
 f Hebrew School
DTSTART;TZID=America/New_York:20190921T090000
DTEND;TZID=America/New_York:20190921T235959
END:VEVENT
END:VCALENDAR
