BEGIN:VCALENDAR
PRODID:-//eluceo/ical//2.0/EN
VERSION:2.0
CALSCALE:GREGORIAN
BEGIN:VEVENT
UID:5c8b7f91976dc203bacb312a60260207
DTSTAMP:20260424T041907Z
SUMMARY:Jewish Healthcare Center Donor Auxillary Luncheon
DESCRIPTION:Jewish Federation of Central Massachusetts\nCalendar\nhttps://j
 ewishcentralmass.org/calendar/20cal613\n\nJewish Healthcare Center Donor A
 uxillary Luncheon
DTSTART;TZID=America/New_York:20190918T120000
DTEND;TZID=America/New_York:20190918T235959
END:VEVENT
END:VCALENDAR
