BEGIN:VCALENDAR
PRODID:-//eluceo/ical//2.0/EN
VERSION:2.0
CALSCALE:GREGORIAN
BEGIN:VEVENT
UID:0e982323c178144557e091e39a35a9d3
DTSTAMP:20260424T023313Z
SUMMARY:Educators Event Community wide Program at CBS
DESCRIPTION:Jewish Federation of Central Massachusetts\nCalendar\nhttps://j
 ewishcentralmass.org/calendar/20cal612\n\nCommunity wide Program at CBS
DTSTART;TZID=America/New_York:20190915T000000
DTEND;TZID=America/New_York:20190915T235959
END:VEVENT
END:VCALENDAR
