BEGIN:VCALENDAR
PRODID:-//eluceo/ical//2.0/EN
VERSION:2.0
CALSCALE:GREGORIAN
BEGIN:VEVENT
UID:73b175c3c86eda0d4041cdb1f39a49fd
DTSTAMP:20260423T184327Z
SUMMARY:Congregation Beth Israel Brotherhood Breakfast
DESCRIPTION:Jewish Federation of Central Massachusetts\nCalendar\nhttps://j
 ewishcentralmass.org/calendar/20cal611\n\nCongregation Beth Israel Brother
 hood Breakfast
DTSTART;TZID=America/New_York:20190915T090000
DTEND;TZID=America/New_York:20190915T235959
END:VEVENT
END:VCALENDAR
